Workbook

Sheet User Input Sheet
A1: War Band II Unit Builder Utility | D1: Unit Name:
A2: Version 10/29/2024 | D2: Player Name:
A3: Figure Race/Notes | D3: Figure 1 | E3: Figure 2 | F3: Figure 3 | G3: Figure 4 | H3: Figure 5 | I3: Figure 6 | J3: Figure 7 | K3: Figure 8 | L3: Figure 9
C4: Race:
C5: Notes:
A6: Figure Size | B6: AD | C6: PC | D6: Figure 1 | E6: Figure 2 | F6: Figure 3 | G6: Figure 4 | H6: Figure 5 | I6: Figure 6 | J6: Figure 7 | K6: Figure 8 | L6: Figure 9
A7: Tiny - 0.5” - Fairy, Large Rat, Small Dog | B7: D20 | C7: 10
A8: Small - 0.75” - Dwarf, Goblin, Mouse Warrior | B8: D16 | C8: 25
A9: Medium - 1.0” - Human, Elf, Orc, Wolf | B9: D12 | C9: 35
A10: Large - 1.25” - Pig-Faced Orc, Saurian, Troll | B10: D10 | C10: 45
A11: Very Large - 1.5” - Mounted Human, Ent, Giant | B11: D8 | C11: 55
A12: Huge - 1.75” - Mounted Saurian, Elemental | B12: D6 | C12: 65
A13: Enormous - 2.0+” - Dragon, War Chariot, Siege Eq. | B13: D4 | C13: 80
A14: Figure Type | B14: ADM | C14: PCM | D14: Figure 1 | E14: Figure 2 | F14: Figure 3 | G14: Figure 4 | H14: Figure 5 | I14: Figure 6 | J14: Figure 7 | K14: Figure 8 | L14: Figure 9
A15: Knight | B15: 0 | C15: 13
A16: Monster | B16: 0 | C16: 3
A17: Fighter | B17: 0 | C17: 0
A18: Assassin | B18: 0 | C18: -13
A19: Peasant | B19: 0 | C19: -14
A20: Magician | B20: 0 | C20: -15
A21: Figure Skill | B21: ADM | C21: PCM | D21: Figure 1 | E21: Figure 2 | F21: Figure 3 | G21: Figure 4 | H21: Figure 5 | I21: Figure 6 | J21: Figure 7 | K21: Figure 8 | L21: Figure 9
A22: Legendary | B22: -4 | C22: 20
A23: Heroic | B23: -2 | C23: 10
A24: Trained | B24: 0 | C24: 0
A25: Untrained | B25: 2 | C25: -10
A26: Weapon and Armor Changes (+/-PCM to add/remove): | B26: ADM | C26: PCM | D26: Figure 1 | E26: Figure 2 | F26: Figure 3 | G26: Figure 4 | H26: Figure 5 | I26: Figure 6 | J26: Figure 7 | K26: Figure 8 | L26: Figure 9
A27: Improvised Weapon | B27: 0 | C27: 1
A28: Very Small Weapon (Dagger or Similar) | B28: 0 | C28: 2
A29: Small Weapon (Short Sword, Small Axe, or Similar) | B29: 0 | C29: 3
A30: Shield (Physical, Natural, or Magical) | B30: 0 | C30: 3
A31: Bow, Sling, Javelin | B31: 0 | C31: 5
A32: 1-Handed Weapon (Broadsword, Axe, Mace or Similar) | B32: 0 | C32: 5
A33: Musical Instrument | B33: 0 | C33: 8
A34: 2-Handed Weapon, Gunpowder Weapon | B34: 0 | C34: 8
A35: Ranged Magical Attack | B35: 0 | C35: 10
A36: Change Armor/Grade (i.e. +/- 1 to 3) | B36: 0 | C36: 10
A37: Battle Standard | B37: 0 | C37: 15
A38: Heavy Siege Weapon, Fast (Mtd.) Movement | B38: 0 | C38: 20
C39: Number of Replicas:
C40: Figure AD: | D40: =IF('Do NOT Edit - DataCalc Sheet'!D39="", "", "D"&'Do NOT Edit - DataCalc Sheet'!D39) | E40: =IF('Do NOT Edit - DataCalc Sheet'!E39="", "", "D"&'Do NOT Edit - DataCalc Sheet'!E39) | F40: =IF('Do NOT Edit - DataCalc Sheet'!F39="", "", "D"&'Do NOT Edit - DataCalc Sheet'!F39) | G40: =IF('Do NOT Edit - DataCalc Sheet'!G39="", "", "D"&'Do NOT Edit - DataCalc Sheet'!G39) | H40: =IF('Do NOT Edit - DataCalc Sheet'!H39="", "", "D"&'Do NOT Edit - DataCalc Sheet'!H39) | I40: =IF('Do NOT Edit - DataCalc Sheet'!I39="", "", "D"&'Do NOT Edit - DataCalc Sheet'!I39) | J40: =IF('Do NOT Edit - DataCalc Sheet'!J39="", "", "D"&'Do NOT Edit - DataCalc Sheet'!J39) | K40: =IF('Do NOT Edit - DataCalc Sheet'!K39="", "", "D"&'Do NOT Edit - DataCalc Sheet'!K39) | L40: =IF('Do NOT Edit - DataCalc Sheet'!L39="", "", "D"&'Do NOT Edit - DataCalc Sheet'!L39)
C41: Figure PC: | D41: ='Do NOT Edit - DataCalc Sheet'!M40 -> 0 | E41: ='Do NOT Edit - DataCalc Sheet'!N40 -> 0 | F41: ='Do NOT Edit - DataCalc Sheet'!O40 -> 0 | G41: ='Do NOT Edit - DataCalc Sheet'!P40 -> 0 | H41: ='Do NOT Edit - DataCalc Sheet'!Q40 -> 0 | I41: ='Do NOT Edit - DataCalc Sheet'!R40 -> 0 | J41: ='Do NOT Edit - DataCalc Sheet'!S40 -> 0 | K41: ='Do NOT Edit - DataCalc Sheet'!T40 -> 0 | L41: ='Do NOT Edit - DataCalc Sheet'!U40 -> 0
C42: Total PC for Squad: | D42: ='Do NOT Edit - DataCalc Sheet'!M42 -> 0 | E42: ='Do NOT Edit - DataCalc Sheet'!N42 -> 0 | F42: ='Do NOT Edit - DataCalc Sheet'!O42 -> 0 | G42: ='Do NOT Edit - DataCalc Sheet'!P42 -> 0 | H42: ='Do NOT Edit - DataCalc Sheet'!Q42 -> 0 | I42: ='Do NOT Edit - DataCalc Sheet'!R42 -> 0 | J42: ='Do NOT Edit - DataCalc Sheet'!S42 -> 0 | K42: ='Do NOT Edit - DataCalc Sheet'!T42 -> 0 | L42: ='Do NOT Edit - DataCalc Sheet'!U42 -> 0
C43: Total PC for War Band: | L43: ='Do NOT Edit - DataCalc Sheet'!U43 -> 0
A45: Instructions and notes:
A46: Figures 1-9 are actually figure types; enter the number of each type of figure under Number of Replicas.
A47: Add a 1 into a white cell to the to select and item. Do not modify any colored cells.
A48: For the Weapon and Armor Changes section: adding a -1 will remove an item that comes with a figure based on its class, adding a # greater
A49: than 1 will add multiples.
A50: For the Change Armor per Grade only, adding a 1 to 3 will inprove the armor that many grades, or a -1 to -3 will downgrand it that many levels.
A51: Note that there is not checking built in (i.e. you could select two base sizes for one figure and will be charged the cost for both).
A52: Note (Unless upgraded): | C52: Armor Grades:
A53: All Assassins, Magicians, and Peasants are Unarmored | C53: Unarmored
A54: Fighters and Monsters are Armored | C54: Armored
A55: Knights are Heavily Armored | C55: Heavily Armored
A56: All Magicians are Unarmed | C56: Super Heavily Armored
A57: Peasants have Improvised Weapons
A58: Assassins have Daggers
A59: Fighters Broadswords
A60: Knights have 2-Handed Weapons, and Monsters have the equiv. attack
A62: Racial Bonus and Penalties (These are added to the Roster Notes but only if names are typed in row 4 exactly as shown below):
A63: Different traits for races adds interest. With the vast range of fantasy types available, we offer just a basic list here. When making your own stats, give a penalty
A64: to offset any bonus. Additional new stats can only be used with the consent of all players.
A65: Dwarf | B65: Move full in Rough if Rocky/Hills, but -2” overall. | C65: Dwarves move full in Rough if it is rocky or hills, but -2” movement overall. Also mining/counter-mining in certain scenarios.
A66: Elf | B66: Receive -1 on Ranged Attacks/+1 in Melee. Move full in Rough if Woods. | C66: Elves are excellent marksmen, so receive a -1 with all ranged weapons, but +1 in melee. Also, move full in Rough if it is woods.
A67: Gnome | B67: Can disappear from sight for one full move. | C67: Gnomes can disappear from sight for one full move so they get one free evade per turn of anyone trying to move into melee contact with them but it gives them 2 DMs to do so. Also mining/counter-mining in certain scenarios.
A68: Goblin | B68: See perfectly in dark but reveive a +1 in full daylight. | C68: Goblins and other underground dwellers see perfectly in dark but shoot and melee at a +1 in full daylight.
A69: Hobgoblin | B69: See perfectly in dark but reveive a +1 in full daylight. | C69: Hobgoblins and other underground dwellers see perfectly in dark but shoot and melee at a +1 in full daylight.
A70: Human | B70: See perfectly in daylight but only 12" max. at night. | C70: Humans and similar above ground dwellers see perfectly in the daylight but their vision is 12" maximum at night which limits ranged weapons.
A71: Human Savanna/Desert | B71: See perfectly in daylight but only 12" max. at night. Move +2” in Hot environments/-2” in Cold. | C71: Human savanna and desert dwellers move +2” in hot environments, but -2” in cold. See perfectly in the daylight but their vision is 12" maximum at night.
A72: Insectoid | B72: Receive a -1 in Melee/+1 on Ranged Attacks. Move full in Rough if it is Rocky or Broken Ground, but -4” in Cold environments. | C72: Insectoids are excellent in close combat, so receive a -1 in melee, but a +1 with all ranged weapons. Also, they move full in Rough if it is rocky or broken ground, but -4” in cold environments.
A73: Pig-Faced Orc | B73: Skin counts as natural armor, so cannot be unarmored. | C73: Pig-Faced Orcs’ skin counts as natural armor so they cannot ever be unarmored.
A74: Ratog | B74: Thick fur counts as natural armor, so cannot be unarmored. | C74: Ratogs’ thick fur counts as natural armor so they cannot ever be unarmored.
A75: Saurian | B75: Scales counts as natural armor, so cannot be unarmored. | C75: Saurians’ scales count as natural armor so they cannot ever be unarmored.
A76: Skeleton | B76: Do not rout. Cannot be above Untrained. | C76: Skeletons do not rout because of DMs. They can never be rated above Untrained.
... A78: Zombie | B78: Do not rout. Cannot be above Untrained. | C78: Zombies do not rout because of DMs. They can never be rated above Untrained.

Sheet Print Only - Roster
A1: War Bands II, Troop Roster
J2: ='User Input Sheet'!A2 -> Version 10/29/2024
A3: Unit Name: | B3: ='User Input Sheet'!E1 -> 0 | F3: Player Name: | G3: ='User Input Sheet'!E2 -> 0
A5: Race | B5: Figure Skill | C5: Figure Type | D5: Number of Replicas | E5: Figure AD | F5: Racial Bonuses | I5: Notes/Description
A6: =IF('User Input Sheet'!D4<>"", 'User Input Sheet'!D4, "") | B6: ='Do NOT Edit - DataCalc Sheet'!AF22 | C6: ='Do NOT Edit - DataCalc Sheet'!AF15 | D6: =IF('User Input Sheet'!D39<>0, 'User Input Sheet'!D39, "") | E6: ='User Input Sheet'!D40 | F6: =IF(A6='Do NOT Edit - DataCalc Sheet'!A$65, 'Do NOT Edit - DataCalc Sheet'!B$65, IF(A6='Do NOT Edit - DataCalc Sheet'!A$66, 'Do NOT Edit - DataCalc Sheet'!B$66, IF(A6='Do NOT Edit - DataCalc Sheet'!A$67, 'Do NOT Edit - DataCalc Sheet'!B$67, IF(A6='Do NOT Edit - DataCalc Sheet'!A$68, 'Do NOT Edit - DataCalc Sheet'!B$68, IF(A6='Do NOT Edit - DataCalc Sheet'!A$69, 'Do NOT Edit - DataCalc Sheet'!B$69, IF(A6='Do NOT Edit - DataCalc Sheet'!A$70, 'Do NOT Edit - DataCalc Sheet'!B$70, IF(A6='Do NOT Edit - DataCalc Sheet'!A$71, 'Do NOT Edit - DataCalc Sheet'!B$71, IF(A6='Do NOT Edit - DataCalc Sheet'!A$72, 'Do NOT Edit - DataCalc Sheet'!B$72, IF(A6='Do NOT Edit - DataCalc Sheet'!A$73, 'Do NOT Edit - DataCalc Sheet'!B$73, IF(A6='Do NOT Edit - DataCalc Sheet'!A$74, 'Do NOT Edit - DataCalc Sheet'!B$74, IF(A6='Do NOT Edit - DataCalc Sheet'!A$75, 'Do NOT Edit - DataCalc Sheet'!B$75, IF(A6='Do NOT Edit - DataCalc Sheet'!A$76, 'Do NOT Edit - DataCalc Sheet'!B$76, IF(A6='Do NOT Edit - DataCalc Sheet'!A$77, 'Do NOT Edit - DataCalc Sheet'!B$77, IF(A6='Do NOT Edit - DataCalc Sheet'!A$78, 'Do NOT Edit - DataCalc Sheet'!B$78, "")))))))))))))) | I6: =IF('User Input Sheet'!D5<>"", 'User Input Sheet'!D5, "")
A7: =IF('User Input Sheet'!E4<>"", 'User Input Sheet'!E4, "") | B7: ='Do NOT Edit - DataCalc Sheet'!AG22 | C7: ='Do NOT Edit - DataCalc Sheet'!AG15 | D7: =IF('User Input Sheet'!E39<>0, 'User Input Sheet'!E39, "") | E7: ='User Input Sheet'!E40 | F7: =IF(A7='Do NOT Edit - DataCalc Sheet'!A$65, 'Do NOT Edit - DataCalc Sheet'!B$65, IF(A7='Do NOT Edit - DataCalc Sheet'!A$66, 'Do NOT Edit - DataCalc Sheet'!B$66, IF(A7='Do NOT Edit - DataCalc Sheet'!A$67, 'Do NOT Edit - DataCalc Sheet'!B$67, IF(A7='Do NOT Edit - DataCalc Sheet'!A$68, 'Do NOT Edit - DataCalc Sheet'!B$68, IF(A7='Do NOT Edit - DataCalc Sheet'!A$69, 'Do NOT Edit - DataCalc Sheet'!B$69, IF(A7='Do NOT Edit - DataCalc Sheet'!A$70, 'Do NOT Edit - DataCalc Sheet'!B$70, IF(A7='Do NOT Edit - DataCalc Sheet'!A$71, 'Do NOT Edit - DataCalc Sheet'!B$71, IF(A7='Do NOT Edit - DataCalc Sheet'!A$72, 'Do NOT Edit - DataCalc Sheet'!B$72, IF(A7='Do NOT Edit - DataCalc Sheet'!A$73, 'Do NOT Edit - DataCalc Sheet'!B$73, IF(A7='Do NOT Edit - DataCalc Sheet'!A$74, 'Do NOT Edit - DataCalc Sheet'!B$74, IF(A7='Do NOT Edit - DataCalc Sheet'!A$75, 'Do NOT Edit - DataCalc Sheet'!B$75, IF(A7='Do NOT Edit - DataCalc Sheet'!A$76, 'Do NOT Edit - DataCalc Sheet'!B$76, IF(A7='Do NOT Edit - DataCalc Sheet'!A$77, 'Do NOT Edit - DataCalc Sheet'!B$77, IF(A7='Do NOT Edit - DataCalc Sheet'!A$78, 'Do NOT Edit - DataCalc Sheet'!B$78, "")))))))))))))) | I7: =IF('User Input Sheet'!E5<>"", 'User Input Sheet'!E5, "")
A8: =IF('User Input Sheet'!F4<>"", 'User Input Sheet'!F4, "") | B8: ='Do NOT Edit - DataCalc Sheet'!AH22 | C8: ='Do NOT Edit - DataCalc Sheet'!AH15 | D8: =IF('User Input Sheet'!F39<>0, 'User Input Sheet'!F39, "") | E8: ='User Input Sheet'!F40 | F8: =IF(A8='Do NOT Edit - DataCalc Sheet'!A$65, 'Do NOT Edit - DataCalc Sheet'!B$65, IF(A8='Do NOT Edit - DataCalc Sheet'!A$66, 'Do NOT Edit - DataCalc Sheet'!B$66, IF(A8='Do NOT Edit - DataCalc Sheet'!A$67, 'Do NOT Edit - DataCalc Sheet'!B$67, IF(A8='Do NOT Edit - DataCalc Sheet'!A$68, 'Do NOT Edit - DataCalc Sheet'!B$68, IF(A8='Do NOT Edit - DataCalc Sheet'!A$69, 'Do NOT Edit - DataCalc Sheet'!B$69, IF(A8='Do NOT Edit - DataCalc Sheet'!A$70, 'Do NOT Edit - DataCalc Sheet'!B$70, IF(A8='Do NOT Edit - DataCalc Sheet'!A$71, 'Do NOT Edit - DataCalc Sheet'!B$71, IF(A8='Do NOT Edit - DataCalc Sheet'!A$72, 'Do NOT Edit - DataCalc Sheet'!B$72, IF(A8='Do NOT Edit - DataCalc Sheet'!A$73, 'Do NOT Edit - DataCalc Sheet'!B$73, IF(A8='Do NOT Edit - DataCalc Sheet'!A$74, 'Do NOT Edit - DataCalc Sheet'!B$74, IF(A8='Do NOT Edit - DataCalc Sheet'!A$75, 'Do NOT Edit - DataCalc Sheet'!B$75, IF(A8='Do NOT Edit - DataCalc Sheet'!A$76, 'Do NOT Edit - DataCalc Sheet'!B$76, IF(A8='Do NOT Edit - DataCalc Sheet'!A$77, 'Do NOT Edit - DataCalc Sheet'!B$77, IF(A8='Do NOT Edit - DataCalc Sheet'!A$78, 'Do NOT Edit - DataCalc Sheet'!B$78, "")))))))))))))) | I8: =IF('User Input Sheet'!F5<>"", 'User Input Sheet'!F5, "")
A9: =IF('User Input Sheet'!G4<>"", 'User Input Sheet'!G4, "") | B9: ='Do NOT Edit - DataCalc Sheet'!AI22 | C9: ='Do NOT Edit - DataCalc Sheet'!AI15 | D9: =IF('User Input Sheet'!G39<>0, 'User Input Sheet'!G39, "") | E9: ='User Input Sheet'!G40 | F9: =IF(A9='Do NOT Edit - DataCalc Sheet'!A$65, 'Do NOT Edit - DataCalc Sheet'!B$65, IF(A9='Do NOT Edit - DataCalc Sheet'!A$66, 'Do NOT Edit - DataCalc Sheet'!B$66, IF(A9='Do NOT Edit - DataCalc Sheet'!A$67, 'Do NOT Edit - DataCalc Sheet'!B$67, IF(A9='Do NOT Edit - DataCalc Sheet'!A$68, 'Do NOT Edit - DataCalc Sheet'!B$68, IF(A9='Do NOT Edit - DataCalc Sheet'!A$69, 'Do NOT Edit - DataCalc Sheet'!B$69, IF(A9='Do NOT Edit - DataCalc Sheet'!A$70, 'Do NOT Edit - DataCalc Sheet'!B$70, IF(A9='Do NOT Edit - DataCalc Sheet'!A$71, 'Do NOT Edit - DataCalc Sheet'!B$71, IF(A9='Do NOT Edit - DataCalc Sheet'!A$72, 'Do NOT Edit - DataCalc Sheet'!B$72, IF(A9='Do NOT Edit - DataCalc Sheet'!A$73, 'Do NOT Edit - DataCalc Sheet'!B$73, IF(A9='Do NOT Edit - DataCalc Sheet'!A$74, 'Do NOT Edit - DataCalc Sheet'!B$74, IF(A9='Do NOT Edit - DataCalc Sheet'!A$75, 'Do NOT Edit - DataCalc Sheet'!B$75, IF(A9='Do NOT Edit - DataCalc Sheet'!A$76, 'Do NOT Edit - DataCalc Sheet'!B$76, IF(A9='Do NOT Edit - DataCalc Sheet'!A$77, 'Do NOT Edit - DataCalc Sheet'!B$77, IF(A9='Do NOT Edit - DataCalc Sheet'!A$78, 'Do NOT Edit - DataCalc Sheet'!B$78, "")))))))))))))) | I9: =IF('User Input Sheet'!G5<>"", 'User Input Sheet'!G5, "")
A10: =IF('User Input Sheet'!H4<>"", 'User Input Sheet'!H4, "") | B10: ='Do NOT Edit - DataCalc Sheet'!AJ22 | C10: ='Do NOT Edit - DataCalc Sheet'!AJ15 | D10: =IF('User Input Sheet'!H39<>0, 'User Input Sheet'!H39, "") | E10: ='User Input Sheet'!H40 | F10: =IF(A10='Do NOT Edit - DataCalc Sheet'!A$65, 'Do NOT Edit - DataCalc Sheet'!B$65, IF(A10='Do NOT Edit - DataCalc Sheet'!A$66, 'Do NOT Edit - DataCalc Sheet'!B$66, IF(A10='Do NOT Edit - DataCalc Sheet'!A$67, 'Do NOT Edit - DataCalc Sheet'!B$67, IF(A10='Do NOT Edit - DataCalc Sheet'!A$68, 'Do NOT Edit - DataCalc Sheet'!B$68, IF(A10='Do NOT Edit - DataCalc Sheet'!A$69, 'Do NOT Edit - DataCalc Sheet'!B$69, IF(A10='Do NOT Edit - DataCalc Sheet'!A$70, 'Do NOT Edit - DataCalc Sheet'!B$70, IF(A10='Do NOT Edit - DataCalc Sheet'!A$71, 'Do NOT Edit - DataCalc Sheet'!B$71, IF(A10='Do NOT Edit - DataCalc Sheet'!A$72, 'Do NOT Edit - DataCalc Sheet'!B$72, IF(A10='Do NOT Edit - DataCalc Sheet'!A$73, 'Do NOT Edit - DataCalc Sheet'!B$73, IF(A10='Do NOT Edit - DataCalc Sheet'!A$74, 'Do NOT Edit - DataCalc Sheet'!B$74, IF(A10='Do NOT Edit - DataCalc Sheet'!A$75, 'Do NOT Edit - DataCalc Sheet'!B$75, IF(A10='Do NOT Edit - DataCalc Sheet'!A$76, 'Do NOT Edit - DataCalc Sheet'!B$76, IF(A10='Do NOT Edit - DataCalc Sheet'!A$77, 'Do NOT Edit - DataCalc Sheet'!B$77, IF(A10='Do NOT Edit - DataCalc Sheet'!A$78, 'Do NOT Edit - DataCalc Sheet'!B$78, "")))))))))))))) | I10: =IF('User Input Sheet'!H5<>"", 'User Input Sheet'!H5, "")
A11: =IF('User Input Sheet'!I4<>"", 'User Input Sheet'!I4, "") | B11: ='Do NOT Edit - DataCalc Sheet'!AK22 | C11: ='Do NOT Edit - DataCalc Sheet'!AK15 | D11: =IF('User Input Sheet'!I39<>0, 'User Input Sheet'!I39, "") | E11: ='User Input Sheet'!I40 | F11: =IF(A11='Do NOT Edit - DataCalc Sheet'!A$65, 'Do NOT Edit - DataCalc Sheet'!B$65, IF(A11='Do NOT Edit - DataCalc Sheet'!A$66, 'Do NOT Edit - DataCalc Sheet'!B$66, IF(A11='Do NOT Edit - DataCalc Sheet'!A$67, 'Do NOT Edit - DataCalc Sheet'!B$67, IF(A11='Do NOT Edit - DataCalc Sheet'!A$68, 'Do NOT Edit - DataCalc Sheet'!B$68, IF(A11='Do NOT Edit - DataCalc Sheet'!A$69, 'Do NOT Edit - DataCalc Sheet'!B$69, IF(A11='Do NOT Edit - DataCalc Sheet'!A$70, 'Do NOT Edit - DataCalc Sheet'!B$70, IF(A11='Do NOT Edit - DataCalc Sheet'!A$71, 'Do NOT Edit - DataCalc Sheet'!B$71, IF(A11='Do NOT Edit - DataCalc Sheet'!A$72, 'Do NOT Edit - DataCalc Sheet'!B$72, IF(A11='Do NOT Edit - DataCalc Sheet'!A$73, 'Do NOT Edit - DataCalc Sheet'!B$73, IF(A11='Do NOT Edit - DataCalc Sheet'!A$74, 'Do NOT Edit - DataCalc Sheet'!B$74, IF(A11='Do NOT Edit - DataCalc Sheet'!A$75, 'Do NOT Edit - DataCalc Sheet'!B$75, IF(A11='Do NOT Edit - DataCalc Sheet'!A$76, 'Do NOT Edit - DataCalc Sheet'!B$76, IF(A11='Do NOT Edit - DataCalc Sheet'!A$77, 'Do NOT Edit - DataCalc Sheet'!B$77, IF(A11='Do NOT Edit - DataCalc Sheet'!A$78, 'Do NOT Edit - DataCalc Sheet'!B$78, "")))))))))))))) | I11: =IF('User Input Sheet'!I5<>"", 'User Input Sheet'!I5, "")
A12: =IF('User Input Sheet'!J4<>"", 'User Input Sheet'!J4, "") | B12: ='Do NOT Edit - DataCalc Sheet'!AL22 | C12: ='Do NOT Edit - DataCalc Sheet'!AL15 | D12: =IF('User Input Sheet'!J39<>0, 'User Input Sheet'!J39, "") | E12: ='User Input Sheet'!J40 | F12: =IF(A12='Do NOT Edit - DataCalc Sheet'!A$65, 'Do NOT Edit - DataCalc Sheet'!B$65, IF(A12='Do NOT Edit - DataCalc Sheet'!A$66, 'Do NOT Edit - DataCalc Sheet'!B$66, IF(A12='Do NOT Edit - DataCalc Sheet'!A$67, 'Do NOT Edit - DataCalc Sheet'!B$67, IF(A12='Do NOT Edit - DataCalc Sheet'!A$68, 'Do NOT Edit - DataCalc Sheet'!B$68, IF(A12='Do NOT Edit - DataCalc Sheet'!A$69, 'Do NOT Edit - DataCalc Sheet'!B$69, IF(A12='Do NOT Edit - DataCalc Sheet'!A$70, 'Do NOT Edit - DataCalc Sheet'!B$70, IF(A12='Do NOT Edit - DataCalc Sheet'!A$71, 'Do NOT Edit - DataCalc Sheet'!B$71, IF(A12='Do NOT Edit - DataCalc Sheet'!A$72, 'Do NOT Edit - DataCalc Sheet'!B$72, IF(A12='Do NOT Edit - DataCalc Sheet'!A$73, 'Do NOT Edit - DataCalc Sheet'!B$73, IF(A12='Do NOT Edit - DataCalc Sheet'!A$74, 'Do NOT Edit - DataCalc Sheet'!B$74, IF(A12='Do NOT Edit - DataCalc Sheet'!A$75, 'Do NOT Edit - DataCalc Sheet'!B$75, IF(A12='Do NOT Edit - DataCalc Sheet'!A$76, 'Do NOT Edit - DataCalc Sheet'!B$76, IF(A12='Do NOT Edit - DataCalc Sheet'!A$77, 'Do NOT Edit - DataCalc Sheet'!B$77, IF(A12='Do NOT Edit - DataCalc Sheet'!A$78, 'Do NOT Edit - DataCalc Sheet'!B$78, "")))))))))))))) | I12: =IF('User Input Sheet'!J5<>"", 'User Input Sheet'!J5, "")
A13: =IF('User Input Sheet'!K4<>"", 'User Input Sheet'!K4, "") | B13: ='Do NOT Edit - DataCalc Sheet'!AM22 | C13: ='Do NOT Edit - DataCalc Sheet'!AM15 | D13: =IF('User Input Sheet'!K39<>0, 'User Input Sheet'!K39, "") | E13: ='User Input Sheet'!K40 | F13: =IF(A13='Do NOT Edit - DataCalc Sheet'!A$65, 'Do NOT Edit - DataCalc Sheet'!B$65, IF(A13='Do NOT Edit - DataCalc Sheet'!A$66, 'Do NOT Edit - DataCalc Sheet'!B$66, IF(A13='Do NOT Edit - DataCalc Sheet'!A$67, 'Do NOT Edit - DataCalc Sheet'!B$67, IF(A13='Do NOT Edit - DataCalc Sheet'!A$68, 'Do NOT Edit - DataCalc Sheet'!B$68, IF(A13='Do NOT Edit - DataCalc Sheet'!A$69, 'Do NOT Edit - DataCalc Sheet'!B$69, IF(A13='Do NOT Edit - DataCalc Sheet'!A$70, 'Do NOT Edit - DataCalc Sheet'!B$70, IF(A13='Do NOT Edit - DataCalc Sheet'!A$71, 'Do NOT Edit - DataCalc Sheet'!B$71, IF(A13='Do NOT Edit - DataCalc Sheet'!A$72, 'Do NOT Edit - DataCalc Sheet'!B$72, IF(A13='Do NOT Edit - DataCalc Sheet'!A$73, 'Do NOT Edit - DataCalc Sheet'!B$73, IF(A13='Do NOT Edit - DataCalc Sheet'!A$74, 'Do NOT Edit - DataCalc Sheet'!B$74, IF(A13='Do NOT Edit - DataCalc Sheet'!A$75, 'Do NOT Edit - DataCalc Sheet'!B$75, IF(A13='Do NOT Edit - DataCalc Sheet'!A$76, 'Do NOT Edit - DataCalc Sheet'!B$76, IF(A13='Do NOT Edit - DataCalc Sheet'!A$77, 'Do NOT Edit - DataCalc Sheet'!B$77, IF(A13='Do NOT Edit - DataCalc Sheet'!A$78, 'Do NOT Edit - DataCalc Sheet'!B$78, "")))))))))))))) | I13: =IF('User Input Sheet'!K5<>"", 'User Input Sheet'!K5, "")
A14: =IF('User Input Sheet'!L4<>"", 'User Input Sheet'!L4, "") | B14: ='Do NOT Edit - DataCalc Sheet'!AN22 | C14: ='Do NOT Edit - DataCalc Sheet'!AN15 | D14: =IF('User Input Sheet'!L39<>0, 'User Input Sheet'!L39, "") | E14: ='User Input Sheet'!L40 | F14: =IF(A14='Do NOT Edit - DataCalc Sheet'!A$65, 'Do NOT Edit - DataCalc Sheet'!B$65, IF(A14='Do NOT Edit - DataCalc Sheet'!A$66, 'Do NOT Edit - DataCalc Sheet'!B$66, IF(A14='Do NOT Edit - DataCalc Sheet'!A$67, 'Do NOT Edit - DataCalc Sheet'!B$67, IF(A14='Do NOT Edit - DataCalc Sheet'!A$68, 'Do NOT Edit - DataCalc Sheet'!B$68, IF(A14='Do NOT Edit - DataCalc Sheet'!A$69, 'Do NOT Edit - DataCalc Sheet'!B$69, IF(A14='Do NOT Edit - DataCalc Sheet'!A$70, 'Do NOT Edit - DataCalc Sheet'!B$70, IF(A14='Do NOT Edit - DataCalc Sheet'!A$71, 'Do NOT Edit - DataCalc Sheet'!B$71, IF(A14='Do NOT Edit - DataCalc Sheet'!A$72, 'Do NOT Edit - DataCalc Sheet'!B$72, IF(A14='Do NOT Edit - DataCalc Sheet'!A$73, 'Do NOT Edit - DataCalc Sheet'!B$73, IF(A14='Do NOT Edit - DataCalc Sheet'!A$74, 'Do NOT Edit - DataCalc Sheet'!B$74, IF(A14='Do NOT Edit - DataCalc Sheet'!A$75, 'Do NOT Edit - DataCalc Sheet'!B$75, IF(A14='Do NOT Edit - DataCalc Sheet'!A$76, 'Do NOT Edit - DataCalc Sheet'!B$76, IF(A14='Do NOT Edit - DataCalc Sheet'!A$77, 'Do NOT Edit - DataCalc Sheet'!B$77, IF(A14='Do NOT Edit - DataCalc Sheet'!A$78, 'Do NOT Edit - DataCalc Sheet'!B$78, "")))))))))))))) | I14: =IF('User Input Sheet'!L5<>"", 'User Input Sheet'!L5, "")
A16: Additional Notes: | I16: Total PC for War Band: | J16: ='User Input Sheet'!L43 -> 0

Sheet Do NOT Edit - DataCalc Sheet
A1: Do NOT Enter Any Data on This Sheet | AE1: 4
A2: ='User Input Sheet'!A2 -> Version 10/29/2024
AE4: 4
D5: AD Calc Data | M5: PC Calc Data | V5: Carry-Over Data from Input Sheet | AE5: 4
A6: ='User Input Sheet'!A6 -> Figure Size | B6: ='User Input Sheet'!B6 -> AD | C6: ='User Input Sheet'!C6 -> PC | D6: ='User Input Sheet'!D6 -> Figure 1 | E6: ='User Input Sheet'!E6 -> Figure 2 | F6: ='User Input Sheet'!F6 -> Figure 3 | G6: ='User Input Sheet'!G6 -> Figure 4 | H6: ='User Input Sheet'!H6 -> Figure 5 | ... L6: ='User Input Sheet'!L6 -> Figure 9 | M6: ='User Input Sheet'!D6 -> Figure 1 | N6: ='User Input Sheet'!E6 -> Figure 2 | O6: ='User Input Sheet'!F6 -> Figure 3 | P6: ='User Input Sheet'!G6 -> Figure 4 | Q6: ='User Input Sheet'!H6 -> Figure 5 | R6: ='User Input Sheet'!I6 -> Figure 6 | S6: ='User Input Sheet'!J6 -> Figure 7 | T6: ='User Input Sheet'!K6 -> Figure 8 | U6: ='User Input Sheet'!L6 -> Figure 9 | V6: ='User Input Sheet'!D6 -> Figure 1 | W6: ='User Input Sheet'!E6 -> Figure 2 | X6: ='User Input Sheet'!F6 -> Figure 3 | Y6: ='User Input Sheet'!G6 -> Figure 4 | Z6: ='User Input Sheet'!H6 -> Figure 5 | AA6: ='User Input Sheet'!I6 -> Figure 6 | AB6: ='User Input Sheet'!J6 -> Figure 7 | AC6: ='User Input Sheet'!K6 -> Figure 8 | AD6: ='User Input Sheet'!L6 -> Figure 9 | AE6: 4
A7: ='User Input Sheet'!A7 -> Tiny - 0.5” - Fairy, Large Rat, Small Dog | B7: ='User Input Sheet'!B7 -> D20 | C7: ='User Input Sheet'!C7 -> 10 | D7: =IF(V7=1, -1,"") | E7: =IF(W7=1, -1,"") | F7: =IF(X7=1, -1,"") | G7: =IF(Y7=1, -1,"") | H7: =IF(Z7=1, -1,"") | I7: =IF(AA7=1, -1,"") | J7: =IF(AB7=1, -1,"") | K7: =IF(AC7=1, -1,"") | L7: =IF(AD7=1, -1,"") | M7: =IF(V7=1, $C7,"") | N7: =IF(W7=1, $C7,"") | O7: =IF(X7=1, $C7,"") | P7: =IF(Y7=1, $C7,"") | Q7: =IF(Z7=1, $C7,"") | R7: =IF(AA7=1, $C7,"") | S7: =IF(AB7=1, $C7,"") | T7: =IF(AC7=1, $C7,"") | U7: =IF(AD7=1, $C7,"") | V7: ='User Input Sheet'!D7 -> 0 | W7: ='User Input Sheet'!E7 -> 0 | X7: ='User Input Sheet'!F7 -> 0 | Y7: ='User Input Sheet'!G7 -> 0 | Z7: ='User Input Sheet'!H7 -> 0 | AA7: ='User Input Sheet'!I7 -> 0 | AB7: ='User Input Sheet'!J7 -> 0 | AC7: ='User Input Sheet'!K7 -> 0 | AD7: ='User Input Sheet'!L7 -> 0 | AE7: 4
A8: ='User Input Sheet'!A8 -> Small - 0.75” - Dwarf, Goblin, Mouse Warrior | B8: ='User Input Sheet'!B8 -> D16 | C8: ='User Input Sheet'!C8 -> 25 | D8: =IF(V8=1, -2,"") | E8: =IF(W8=1, -2,"") | F8: =IF(X8=1, -2,"") | G8: =IF(Y8=1, -2,"") | H8: =IF(Z8=1, -2,"") | I8: =IF(AA8=1, -2,"") | J8: =IF(AB8=1, -2,"") | K8: =IF(AC8=1, -2,"") | L8: =IF(AD8=1, -2,"") | M8: =IF(V8=1, $C8,"") | N8: =IF(W8=1, $C8,"") | O8: =IF(X8=1, $C8,"") | P8: =IF(Y8=1, $C8,"") | Q8: =IF(Z8=1, $C8,"") | R8: =IF(AA8=1, $C8,"") | S8: =IF(AB8=1, $C8,"") | T8: =IF(AC8=1, $C8,"") | U8: =IF(AD8=1, $C8,"") | V8: ='User Input Sheet'!D8 -> 0 | W8: ='User Input Sheet'!E8 -> 0 | X8: ='User Input Sheet'!F8 -> 0 | Y8: ='User Input Sheet'!G8 -> 0 | Z8: ='User Input Sheet'!H8 -> 0 | AA8: ='User Input Sheet'!I8 -> 0 | AB8: ='User Input Sheet'!J8 -> 0 | AC8: ='User Input Sheet'!K8 -> 0 | AD8: ='User Input Sheet'!L8 -> 0 | AE8: 4
A9: ='User Input Sheet'!A9 -> Medium - 1.0” - Human, Elf, Orc, Wolf | B9: ='User Input Sheet'!B9 -> D12 | C9: ='User Input Sheet'!C9 -> 35 | D9: =IF(V9=1, -3,"") | E9: =IF(W9=1, -3,"") | F9: =IF(X9=1, -3,"") | G9: =IF(Y9=1, -3,"") | H9: =IF(Z9=1, -3,"") | I9: =IF(AA9=1, -3,"") | J9: =IF(AB9=1, -3,"") | K9: =IF(AC9=1, -3,"") | L9: =IF(AD9=1, -3,"") | M9: =IF(V9=1, $C9,"") | N9: =IF(W9=1, $C9,"") | O9: =IF(X9=1, $C9,"") | P9: =IF(Y9=1, $C9,"") | Q9: =IF(Z9=1, $C9,"") | R9: =IF(AA9=1, $C9,"") | S9: =IF(AB9=1, $C9,"") | T9: =IF(AC9=1, $C9,"") | U9: =IF(AD9=1, $C9,"") | V9: ='User Input Sheet'!D9 -> 0 | W9: ='User Input Sheet'!E9 -> 0 | X9: ='User Input Sheet'!F9 -> 0 | Y9: ='User Input Sheet'!G9 -> 0 | Z9: ='User Input Sheet'!H9 -> 0 | AA9: ='User Input Sheet'!I9 -> 0 | AB9: ='User Input Sheet'!J9 -> 0 | AC9: ='User Input Sheet'!K9 -> 0 | AD9: ='User Input Sheet'!L9 -> 0 | AE9: 4
A10: ='User Input Sheet'!A10 -> Large - 1.25” - Pig-Faced Orc, Saurian, Troll | B10: ='User Input Sheet'!B10 -> D10 | C10: ='User Input Sheet'!C10 -> 45 | D10: =IF(V10=1, -4,"") | E10: =IF(W10=1, -4,"") | F10: =IF(X10=1, -4,"") | G10: =IF(Y10=1, -4,"") | H10: =IF(Z10=1, -4,"") | I10: =IF(AA10=1, -4,"") | J10: =IF(AB10=1, -4,"") | K10: =IF(AC10=1, -4,"") | L10: =IF(AD10=1, -4,"") | M10: =IF(V10=1, $C10,"") | N10: =IF(W10=1, $C10,"") | O10: =IF(X10=1, $C10,"") | P10: =IF(Y10=1, $C10,"") | Q10: =IF(Z10=1, $C10,"") | R10: =IF(AA10=1, $C10,"") | S10: =IF(AB10=1, $C10,"") | T10: =IF(AC10=1, $C10,"") | U10: =IF(AD10=1, $C10,"") | V10: ='User Input Sheet'!D10 -> 0 | W10: ='User Input Sheet'!E10 -> 0 | X10: ='User Input Sheet'!F10 -> 0 | Y10: ='User Input Sheet'!G10 -> 0 | Z10: ='User Input Sheet'!H10 -> 0 | AA10: ='User Input Sheet'!I10 -> 0 | AB10: ='User Input Sheet'!J10 -> 0 | AC10: ='User Input Sheet'!K10 -> 0 | AD10: ='User Input Sheet'!L10 -> 0 | AE10: 4
A11: ='User Input Sheet'!A11 -> Very Large - 1.5” - Mounted Human, Ent, Giant | B11: ='User Input Sheet'!B11 -> D8 | C11: ='User Input Sheet'!C11 -> 55 | D11: =IF(V11=1, -5,"") | E11: =IF(W11=1, -5,"") | F11: =IF(X11=1, -5,"") | G11: =IF(Y11=1, -5,"") | H11: =IF(Z11=1, -5,"") | I11: =IF(AA11=1, -5,"") | J11: =IF(AB11=1, -5,"") | K11: =IF(AC11=1, -5,"") | L11: =IF(AD11=1, -5,"") | M11: =IF(V11=1, $C11,"") | N11: =IF(W11=1, $C11,"") | O11: =IF(X11=1, $C11,"") | P11: =IF(Y11=1, $C11,"") | Q11: =IF(Z11=1, $C11,"") | R11: =IF(AA11=1, $C11,"") | S11: =IF(AB11=1, $C11,"") | T11: =IF(AC11=1, $C11,"") | U11: =IF(AD11=1, $C11,"") | V11: ='User Input Sheet'!D11 -> 0 | W11: ='User Input Sheet'!E11 -> 0 | X11: ='User Input Sheet'!F11 -> 0 | Y11: ='User Input Sheet'!G11 -> 0 | Z11: ='User Input Sheet'!H11 -> 0 | AA11: ='User Input Sheet'!I11 -> 0 | AB11: ='User Input Sheet'!J11 -> 0 | AC11: ='User Input Sheet'!K11 -> 0 | AD11: ='User Input Sheet'!L11 -> 0 | AE11: 4
A12: ='User Input Sheet'!A12 -> Huge - 1.75” - Mounted Saurian, Elemental | B12: ='User Input Sheet'!B12 -> D6 | C12: ='User Input Sheet'!C12 -> 65 | D12: =IF(V12=1, -6,"") | E12: =IF(W12=1, -6,"") | F12: =IF(X12=1, -6,"") | G12: =IF(Y12=1, -6,"") | H12: =IF(Z12=1, -6,"") | I12: =IF(AA12=1, -6,"") | J12: =IF(AB12=1, -6,"") | K12: =IF(AC12=1, -6,"") | L12: =IF(AD12=1, -6,"") | M12: =IF(V12=1, $C12,"") | N12: =IF(W12=1, $C12,"") | O12: =IF(X12=1, $C12,"") | P12: =IF(Y12=1, $C12,"") | Q12: =IF(Z12=1, $C12,"") | R12: =IF(AA12=1, $C12,"") | S12: =IF(AB12=1, $C12,"") | T12: =IF(AC12=1, $C12,"") | U12: =IF(AD12=1, $C12,"") | V12: ='User Input Sheet'!D12 -> 0 | W12: ='User Input Sheet'!E12 -> 0 | X12: ='User Input Sheet'!F12 -> 0 | Y12: ='User Input Sheet'!G12 -> 0 | Z12: ='User Input Sheet'!H12 -> 0 | AA12: ='User Input Sheet'!I12 -> 0 | AB12: ='User Input Sheet'!J12 -> 0 | AC12: ='User Input Sheet'!K12 -> 0 | AD12: ='User Input Sheet'!L12 -> 0 | AE12: 6
A13: ='User Input Sheet'!A13 -> Enormous - 2.0+” - Dragon, War Chariot, Siege Eq. | B13: ='User Input Sheet'!B13 -> D4 | C13: ='User Input Sheet'!C13 -> 80 | D13: =IF(V13=1, -7,"") | E13: =IF(W13=1, -7,"") | F13: =IF(X13=1, -7,"") | G13: =IF(Y13=1, -7,"") | H13: =IF(Z13=1, -7,"") | I13: =IF(AA13=1, -7,"") | J13: =IF(AB13=1, -7,"") | K13: =IF(AC13=1, -7,"") | L13: =IF(AD13=1, -7,"") | M13: =IF(V13=1, $C13,"") | N13: =IF(W13=1, $C13,"") | O13: =IF(X13=1, $C13,"") | P13: =IF(Y13=1, $C13,"") | Q13: =IF(Z13=1, $C13,"") | R13: =IF(AA13=1, $C13,"") | S13: =IF(AB13=1, $C13,"") | T13: =IF(AC13=1, $C13,"") | U13: =IF(AD13=1, $C13,"") | V13: ='User Input Sheet'!D13 -> 0 | W13: ='User Input Sheet'!E13 -> 0 | X13: ='User Input Sheet'!F13 -> 0 | Y13: ='User Input Sheet'!G13 -> 0 | Z13: ='User Input Sheet'!H13 -> 0 | AA13: ='User Input Sheet'!I13 -> 0 | AB13: ='User Input Sheet'!J13 -> 0 | AC13: ='User Input Sheet'!K13 -> 0 | AD13: ='User Input Sheet'!L13 -> 0 | AE13: 8
A14: ='User Input Sheet'!A14 -> Figure Type | B14: ='User Input Sheet'!B14 -> ADM | C14: ='User Input Sheet'!C14 -> PCM | D14: =SUM(D7:D13) -> 0 | E14: =SUM(E7:E13) -> 0 | F14: =SUM(F7:F13) -> 0 | G14: =SUM(G7:G13) -> 0 | H14: =SUM(H7:H13) -> 0 | I14: =SUM(I7:I13) -> 0 | J14: =SUM(J7:J13) -> 0 | K14: =SUM(K7:K13) -> 0 | L14: =SUM(L7:L13) -> 0 | V14: ='User Input Sheet'!D14 -> Figure 1 | W14: ='User Input Sheet'!E14 -> Figure 2 | X14: ='User Input Sheet'!F14 -> Figure 3 | Y14: ='User Input Sheet'!G14 -> Figure 4 | Z14: ='User Input Sheet'!H14 -> Figure 5 | AA14: ='User Input Sheet'!I14 -> Figure 6 | AB14: ='User Input Sheet'!J14 -> Figure 7 | AC14: ='User Input Sheet'!K14 -> Figure 8 | AD14: ='User Input Sheet'!L14 -> Figure 9 | AE14: 10 | AF14: Figure 1 | AG14: Figure 2 | AH14: Figure 3 | AI14: Figure 4 | AJ14: Figure 5 | AK14: Figure 6 | AL14: Figure 7 | AM14: Figure 8 | AN14: Figure 9
A15: ='User Input Sheet'!A15 -> Knight | B15: ='User Input Sheet'!B15 -> 0 | C15: ='User Input Sheet'!C15 -> 13 | M15: =IF(V15=1, $C15,"") | N15: =IF(W15=1, $C15,"") | O15: =IF(X15=1, $C15,"") | P15: =IF(Y15=1, $C15,"") | Q15: =IF(Z15=1, $C15,"") | R15: =IF(AA15=1, $C15,"") | S15: =IF(AB15=1, $C15,"") | T15: =IF(AC15=1, $C15,"") | U15: =IF(AD15=1, $C15,"") | V15: ='User Input Sheet'!D15 -> 0 | W15: ='User Input Sheet'!E15 -> 0 | X15: ='User Input Sheet'!F15 -> 0 | Y15: ='User Input Sheet'!G15 -> 0 | Z15: ='User Input Sheet'!H15 -> 0 | AA15: ='User Input Sheet'!I15 -> 0 | AB15: ='User Input Sheet'!J15 -> 0 | AC15: ='User Input Sheet'!K15 -> 0 | AD15: ='User Input Sheet'!L15 -> 0 | AE15: 12 | AF15: =IF(V20=1, "Magician", IF(V19=1, "Peasant", IF(V18=1, "Assassin", IF(V17=1, "Fighter", IF(V16=1, "Monster", IF(V15=1, "Knight", "")))))) | AG15: =IF(W20=1, "Magician", IF(W19=1, "Peasant", IF(W18=1, "Assassin", IF(W17=1, "Fighter", IF(W16=1, "Monster", IF(W15=1, "Knight", "")))))) | AH15: =IF(X20=1, "Magician", IF(X19=1, "Peasant", IF(X18=1, "Assassin", IF(X17=1, "Fighter", IF(X16=1, "Monster", IF(X15=1, "Knight", "")))))) | AI15: =IF(Y20=1, "Magician", IF(Y19=1, "Peasant", IF(Y18=1, "Assassin", IF(Y17=1, "Fighter", IF(Y16=1, "Monster", IF(Y15=1, "Knight", "")))))) | AJ15: =IF(Z20=1, "Magician", IF(Z19=1, "Peasant", IF(Z18=1, "Assassin", IF(Z17=1, "Fighter", IF(Z16=1, "Monster", IF(Z15=1, "Knight", "")))))) | AK15: =IF(AA20=1, "Magician", IF(AA19=1, "Peasant", IF(AA18=1, "Assassin", IF(AA17=1, "Fighter", IF(AA16=1, "Monster", IF(AA15=1, "Knight", "")))))) | AL15: =IF(AB20=1, "Magician", IF(AB19=1, "Peasant", IF(AB18=1, "Assassin", IF(AB17=1, "Fighter", IF(AB16=1, "Monster", IF(AB15=1, "Knight", "")))))) | AM15: =IF(AC20=1, "Magician", IF(AC19=1, "Peasant", IF(AC18=1, "Assassin", IF(AC17=1, "Fighter", IF(AC16=1, "Monster", IF(AC15=1, "Knight", "")))))) | AN15: =IF(AD20=1, "Magician", IF(AD19=1, "Peasant", IF(AD18=1, "Assassin", IF(AD17=1, "Fighter", IF(AD16=1, "Monster", IF(AD15=1, "Knight", ""))))))
A16: ='User Input Sheet'!A16 -> Monster | B16: ='User Input Sheet'!B16 -> 0 | C16: ='User Input Sheet'!C16 -> 3 | M16: =IF(V16=1, $C16,"") | N16: =IF(W16=1, $C16,"") | O16: =IF(X16=1, $C16,"") | P16: =IF(Y16=1, $C16,"") | Q16: =IF(Z16=1, $C16,"") | R16: =IF(AA16=1, $C16,"") | S16: =IF(AB16=1, $C16,"") | T16: =IF(AC16=1, $C16,"") | U16: =IF(AD16=1, $C16,"") | V16: ='User Input Sheet'!D16 -> 0 | W16: ='User Input Sheet'!E16 -> 0 | X16: ='User Input Sheet'!F16 -> 0 | Y16: ='User Input Sheet'!G16 -> 0 | Z16: ='User Input Sheet'!H16 -> 0 | AA16: ='User Input Sheet'!I16 -> 0 | AB16: ='User Input Sheet'!J16 -> 0 | AC16: ='User Input Sheet'!K16 -> 0 | AD16: ='User Input Sheet'!L16 -> 0 | AE16: 16
A17: ='User Input Sheet'!A17 -> Fighter | B17: ='User Input Sheet'!B17 -> 0 | C17: ='User Input Sheet'!C17 -> 0 | M17: =IF(V17=1, $C17,"") | N17: =IF(W17=1, $C17,"") | O17: =IF(X17=1, $C17,"") | P17: =IF(Y17=1, $C17,"") | Q17: =IF(Z17=1, $C17,"") | R17: =IF(AA17=1, $C17,"") | S17: =IF(AB17=1, $C17,"") | T17: =IF(AC17=1, $C17,"") | U17: =IF(AD17=1, $C17,"") | V17: ='User Input Sheet'!D17 -> 0 | W17: ='User Input Sheet'!E17 -> 0 | X17: ='User Input Sheet'!F17 -> 0 | Y17: ='User Input Sheet'!G17 -> 0 | Z17: ='User Input Sheet'!H17 -> 0 | AA17: ='User Input Sheet'!I17 -> 0 | AB17: ='User Input Sheet'!J17 -> 0 | AC17: ='User Input Sheet'!K17 -> 0 | AD17: ='User Input Sheet'!L17 -> 0 | AE17: 20
A18: ='User Input Sheet'!A18 -> Assassin | B18: ='User Input Sheet'!B18 -> 0 | C18: ='User Input Sheet'!C18 -> -13 | M18: =IF(V18=1, $C18,"") | N18: =IF(W18=1, $C18,"") | O18: =IF(X18=1, $C18,"") | P18: =IF(Y18=1, $C18,"") | Q18: =IF(Z18=1, $C18,"") | R18: =IF(AA18=1, $C18,"") | S18: =IF(AB18=1, $C18,"") | T18: =IF(AC18=1, $C18,"") | U18: =IF(AD18=1, $C18,"") | V18: ='User Input Sheet'!D18 -> 0 | W18: ='User Input Sheet'!E18 -> 0 | X18: ='User Input Sheet'!F18 -> 0 | Y18: ='User Input Sheet'!G18 -> 0 | Z18: ='User Input Sheet'!H18 -> 0 | AA18: ='User Input Sheet'!I18 -> 0 | AB18: ='User Input Sheet'!J18 -> 0 | AC18: ='User Input Sheet'!K18 -> 0 | AD18: ='User Input Sheet'!L18 -> 0 | AE18: 20
A19: ='User Input Sheet'!A19 -> Peasant | B19: ='User Input Sheet'!B19 -> 0 | C19: ='User Input Sheet'!C19 -> -14 | M19: =IF(V19=1, $C19,"") | N19: =IF(W19=1, $C19,"") | O19: =IF(X19=1, $C19,"") | P19: =IF(Y19=1, $C19,"") | Q19: =IF(Z19=1, $C19,"") | R19: =IF(AA19=1, $C19,"") | S19: =IF(AB19=1, $C19,"") | T19: =IF(AC19=1, $C19,"") | U19: =IF(AD19=1, $C19,"") | V19: ='User Input Sheet'!D19 -> 0 | W19: ='User Input Sheet'!E19 -> 0 | X19: ='User Input Sheet'!F19 -> 0 | Y19: ='User Input Sheet'!G19 -> 0 | Z19: ='User Input Sheet'!H19 -> 0 | AA19: ='User Input Sheet'!I19 -> 0 | AB19: ='User Input Sheet'!J19 -> 0 | AC19: ='User Input Sheet'!K19 -> 0 | AD19: ='User Input Sheet'!L19 -> 0 | AE19: 20
A20: ='User Input Sheet'!A20 -> Magician | B20: ='User Input Sheet'!B20 -> 0 | C20: ='User Input Sheet'!C20 -> -15 | M20: =IF(V20=1, $C20,"") | N20: =IF(W20=1, $C20,"") | O20: =IF(X20=1, $C20,"") | P20: =IF(Y20=1, $C20,"") | Q20: =IF(Z20=1, $C20,"") | R20: =IF(AA20=1, $C20,"") | S20: =IF(AB20=1, $C20,"") | T20: =IF(AC20=1, $C20,"") | U20: =IF(AD20=1, $C20,"") | V20: ='User Input Sheet'!D20 -> 0 | W20: ='User Input Sheet'!E20 -> 0 | X20: ='User Input Sheet'!F20 -> 0 | Y20: ='User Input Sheet'!G20 -> 0 | Z20: ='User Input Sheet'!H20 -> 0 | AA20: ='User Input Sheet'!I20 -> 0 | AB20: ='User Input Sheet'!J20 -> 0 | AC20: ='User Input Sheet'!K20 -> 0 | AD20: ='User Input Sheet'!L20 -> 0 | AE20: 20
A21: ='User Input Sheet'!A21 -> Figure Skill | B21: ='User Input Sheet'!B21 -> ADM | C21: ='User Input Sheet'!C21 -> PCM | V21: ='User Input Sheet'!D21 -> Figure 1 | W21: ='User Input Sheet'!E21 -> Figure 2 | X21: ='User Input Sheet'!F21 -> Figure 3 | Y21: ='User Input Sheet'!G21 -> Figure 4 | Z21: ='User Input Sheet'!H21 -> Figure 5 | AA21: ='User Input Sheet'!I21 -> Figure 6 | AB21: ='User Input Sheet'!J21 -> Figure 7 | AC21: ='User Input Sheet'!K21 -> Figure 8 | AD21: ='User Input Sheet'!L21 -> Figure 9 | AE21: 20 | AF21: Figure 1 | AG21: Figure 2 | AH21: Figure 3 | AI21: Figure 4 | AJ21: Figure 5 | AK21: Figure 6 | AL21: Figure 7 | AM21: Figure 8 | AN21: Figure 9
A22: ='User Input Sheet'!A22 -> Legendary | B22: ='User Input Sheet'!B22 -> -4 | C22: ='User Input Sheet'!C22 -> 20 | D22: =IF(V22=1, -4,"") | E22: =IF(W22=1, -4,"") | F22: =IF(X22=1, -4,"") | G22: =IF(Y22=1, -4,"") | H22: =IF(Z22=1, -4,"") | I22: =IF(AA22=1, -4,"") | J22: =IF(AB22=1, -4,"") | K22: =IF(AC22=1, -4,"") | L22: =IF(AD22=1, -4,"") | M22: =IF(V22=1, $C22,"") | N22: =IF(W22=1, $C22,"") | O22: =IF(X22=1, $C22,"") | P22: =IF(Y22=1, $C22,"") | Q22: =IF(Z22=1, $C22,"") | R22: =IF(AA22=1, $C22,"") | S22: =IF(AB22=1, $C22,"") | T22: =IF(AC22=1, $C22,"") | U22: =IF(AD22=1, $C22,"") | V22: ='User Input Sheet'!D22 -> 0 | W22: ='User Input Sheet'!E22 -> 0 | X22: ='User Input Sheet'!F22 -> 0 | Y22: ='User Input Sheet'!G22 -> 0 | Z22: ='User Input Sheet'!H22 -> 0 | AA22: ='User Input Sheet'!I22 -> 0 | AB22: ='User Input Sheet'!J22 -> 0 | AC22: ='User Input Sheet'!K22 -> 0 | AD22: ='User Input Sheet'!L22 -> 0 | AE22: 20 | AF22: =IF(V25=1,"Untrained",IF(V24=1,"Trained",IF(V23=1,"Heroic",IF(V22=1,"Legendary","")))) | AG22: =IF(W25=1,"Untrained",IF(W24=1,"Trained",IF(W23=1,"Heroic",IF(W22=1,"Legendary","")))) | AH22: =IF(X25=1,"Untrained",IF(X24=1,"Trained",IF(X23=1,"Heroic",IF(X22=1,"Legendary","")))) | AI22: =IF(Y25=1,"Untrained",IF(Y24=1,"Trained",IF(Y23=1,"Heroic",IF(Y22=1,"Legendary","")))) | AJ22: =IF(Z25=1,"Untrained",IF(Z24=1,"Trained",IF(Z23=1,"Heroic",IF(Z22=1,"Legendary","")))) | AK22: =IF(AA25=1,"Untrained",IF(AA24=1,"Trained",IF(AA23=1,"Heroic",IF(AA22=1,"Legendary","")))) | AL22: =IF(AB25=1,"Untrained",IF(AB24=1,"Trained",IF(AB23=1,"Heroic",IF(AB22=1,"Legendary","")))) | AM22: =IF(AC25=1,"Untrained",IF(AC24=1,"Trained",IF(AC23=1,"Heroic",IF(AC22=1,"Legendary","")))) | AN22: =IF(AD25=1,"Untrained",IF(AD24=1,"Trained",IF(AD23=1,"Heroic",IF(AD22=1,"Legendary",""))))
A23: ='User Input Sheet'!A23 -> Heroic | B23: ='User Input Sheet'!B23 -> -2 | C23: ='User Input Sheet'!C23 -> 10 | D23: =IF(V23=1, -2,"") | E23: =IF(W23=1, -2,"") | F23: =IF(X23=1, -2,"") | G23: =IF(Y23=1, -2,"") | H23: =IF(Z23=1, -2,"") | I23: =IF(AA23=1, -2,"") | J23: =IF(AB23=1, -2,"") | K23: =IF(AC23=1, -2,"") | L23: =IF(AD23=1, -2,"") | M23: =IF(V23=1, $C23,"") | N23: =IF(W23=1, $C23,"") | O23: =IF(X23=1, $C23,"") | P23: =IF(Y23=1, $C23,"") | Q23: =IF(Z23=1, $C23,"") | R23: =IF(AA23=1, $C23,"") | S23: =IF(AB23=1, $C23,"") | T23: =IF(AC23=1, $C23,"") | U23: =IF(AD23=1, $C23,"") | V23: ='User Input Sheet'!D23 -> 0 | W23: ='User Input Sheet'!E23 -> 0 | X23: ='User Input Sheet'!F23 -> 0 | Y23: ='User Input Sheet'!G23 -> 0 | Z23: ='User Input Sheet'!H23 -> 0 | AA23: ='User Input Sheet'!I23 -> 0 | AB23: ='User Input Sheet'!J23 -> 0 | AC23: ='User Input Sheet'!K23 -> 0 | AD23: ='User Input Sheet'!L23 -> 0 | AE23: 20
A24: ='User Input Sheet'!A24 -> Trained | B24: ='User Input Sheet'!B24 -> 0 | C24: ='User Input Sheet'!C24 -> 0 | D24: =IF(V24=1, 0,"") | E24: =IF(W24=1, 0,"") | F24: =IF(X24=1, 0,"") | G24: =IF(Y24=1, 0,"") | H24: =IF(Z24=1, 0,"") | I24: =IF(AA24=1, 0,"") | J24: =IF(AB24=1, 0,"") | K24: =IF(AC24=1, 0,"") | L24: =IF(AD24=1, 0,"") | M24: =IF(V24=1, $C24,"") | N24: =IF(W24=1, $C24,"") | O24: =IF(X24=1, $C24,"") | P24: =IF(Y24=1, $C24,"") | Q24: =IF(Z24=1, $C24,"") | R24: =IF(AA24=1, $C24,"") | S24: =IF(AB24=1, $C24,"") | T24: =IF(AC24=1, $C24,"") | U24: =IF(AD24=1, $C24,"") | V24: ='User Input Sheet'!D24 -> 0 | W24: ='User Input Sheet'!E24 -> 0 | X24: ='User Input Sheet'!F24 -> 0 | Y24: ='User Input Sheet'!G24 -> 0 | Z24: ='User Input Sheet'!H24 -> 0 | AA24: ='User Input Sheet'!I24 -> 0 | AB24: ='User Input Sheet'!J24 -> 0 | AC24: ='User Input Sheet'!K24 -> 0 | AD24: ='User Input Sheet'!L24 -> 0 | AE24: 20
A25: ='User Input Sheet'!A25 -> Untrained | B25: ='User Input Sheet'!B25 -> 2 | C25: ='User Input Sheet'!C25 -> -10 | D25: =IF(V25=1, 2,"") | E25: =IF(W25=1, 2,"") | F25: =IF(X25=1, 2,"") | G25: =IF(Y25=1, 2,"") | H25: =IF(Z25=1, 2,"") | I25: =IF(AA25=1, 2,"") | J25: =IF(AB25=1, 2,"") | K25: =IF(AC25=1, 2,"") | L25: =IF(AD25=1, 2,"") | M25: =IF(V25=1, $C25,"") | N25: =IF(W25=1, $C25,"") | O25: =IF(X25=1, $C25,"") | P25: =IF(Y25=1, $C25,"") | Q25: =IF(Z25=1, $C25,"") | R25: =IF(AA25=1, $C25,"") | S25: =IF(AB25=1, $C25,"") | T25: =IF(AC25=1, $C25,"") | U25: =IF(AD25=1, $C25,"") | V25: ='User Input Sheet'!D25 -> 0 | W25: ='User Input Sheet'!E25 -> 0 | X25: ='User Input Sheet'!F25 -> 0 | Y25: ='User Input Sheet'!G25 -> 0 | Z25: ='User Input Sheet'!H25 -> 0 | AA25: ='User Input Sheet'!I25 -> 0 | AB25: ='User Input Sheet'!J25 -> 0 | AC25: ='User Input Sheet'!K25 -> 0 | AD25: ='User Input Sheet'!L25 -> 0 | AE25: 20
A26: ='User Input Sheet'!A26 -> Weapon and Armor Changes (+/-PCM to add/remove): | B26: ='User Input Sheet'!B26 -> ADM | C26: ='User Input Sheet'!C26 -> PCM | D26: =SUM(D22:D25) -> 0 | E26: =SUM(E22:E25) -> 0 | F26: =SUM(F22:F25) -> 0 | G26: =SUM(G22:G25) -> 0 | H26: =SUM(H22:H25) -> 0 | I26: =SUM(I22:I25) -> 0 | J26: =SUM(J22:J25) -> 0 | K26: =SUM(K22:K25) -> 0 | L26: =SUM(L22:L25) -> 0 | M26: =IF(V27>0, $C27*V27,"") | V26: ='User Input Sheet'!D26 -> Figure 1 | W26: ='User Input Sheet'!E26 -> Figure 2 | X26: ='User Input Sheet'!F26 -> Figure 3 | Y26: ='User Input Sheet'!G26 -> Figure 4 | Z26: ='User Input Sheet'!H26 -> Figure 5 | AA26: ='User Input Sheet'!I26 -> Figure 6 | AB26: ='User Input Sheet'!J26 -> Figure 7 | AC26: ='User Input Sheet'!K26 -> Figure 8 | AD26: ='User Input Sheet'!L26 -> Figure 9 | AE26: 20
A27: ='User Input Sheet'!A27 -> Improvised Weapon | B27: ='User Input Sheet'!B27 -> 0 | C27: ='User Input Sheet'!C27 -> 1 | M27: =IF(V27<>0, $C27*V27,"") | N27: =IF(W27<>0, $C27*W27,"") | O27: =IF(X27<>0, $C27*X27,"") | P27: =IF(Y27<>0, $C27*Y27,"") | Q27: =IF(Z27<>0, $C27*Z27,"") | R27: =IF(AA27<>0, $C27*AA27,"") | S27: =IF(AB27<>0, $C27*AB27,"") | T27: =IF(AC27<>0, $C27*AC27,"") | U27: =IF(AD27<>0, $C27*AD27,"") | V27: ='User Input Sheet'!D27 -> 0 | W27: ='User Input Sheet'!E27 -> 0 | X27: ='User Input Sheet'!F27 -> 0 | Y27: ='User Input Sheet'!G27 -> 0 | Z27: ='User Input Sheet'!H27 -> 0 | AA27: ='User Input Sheet'!I27 -> 0 | AB27: ='User Input Sheet'!J27 -> 0 | AC27: ='User Input Sheet'!K27 -> 0 | AD27: ='User Input Sheet'!L27 -> 0
A28: ='User Input Sheet'!A28 -> Very Small Weapon (Dagger or Similar) | B28: ='User Input Sheet'!B28 -> 0 | C28: ='User Input Sheet'!C28 -> 2 | M28: =IF(V28<>0, $C28*V28,"") | N28: =IF(W28<>0, $C28*W28,"") | O28: =IF(X28<>0, $C28*X28,"") | P28: =IF(Y28<>0, $C28*Y28,"") | Q28: =IF(Z28<>0, $C28*Z28,"") | R28: =IF(AA28<>0, $C28*AA28,"") | S28: =IF(AB28<>0, $C28*AB28,"") | T28: =IF(AC28<>0, $C28*AC28,"") | U28: =IF(AD28<>0, $C28*AD28,"") | V28: ='User Input Sheet'!D28 -> 0 | W28: ='User Input Sheet'!E28 -> 0 | X28: ='User Input Sheet'!F28 -> 0 | Y28: ='User Input Sheet'!G28 -> 0 | Z28: ='User Input Sheet'!H28 -> 0 | AA28: ='User Input Sheet'!I28 -> 0 | AB28: ='User Input Sheet'!J28 -> 0 | AC28: ='User Input Sheet'!K28 -> 0 | AD28: ='User Input Sheet'!L28 -> 0
A29: ='User Input Sheet'!A29 -> Small Weapon (Short Sword, Small Axe, or Similar) | B29: ='User Input Sheet'!B29 -> 0 | C29: ='User Input Sheet'!C29 -> 3 | M29: =IF(V29<>0, $C29*V29,"") | N29: =IF(W29<>0, $C29*W29,"") | O29: =IF(X29<>0, $C29*X29,"") | P29: =IF(Y29<>0, $C29*Y29,"") | Q29: =IF(Z29<>0, $C29*Z29,"") | R29: =IF(AA29<>0, $C29*AA29,"") | S29: =IF(AB29<>0, $C29*AB29,"") | T29: =IF(AC29<>0, $C29*AC29,"") | U29: =IF(AD29<>0, $C29*AD29,"") | V29: ='User Input Sheet'!D29 -> 0 | W29: ='User Input Sheet'!E29 -> 0 | X29: ='User Input Sheet'!F29 -> 0 | Y29: ='User Input Sheet'!G29 -> 0 | Z29: ='User Input Sheet'!H29 -> 0 | AA29: ='User Input Sheet'!I29 -> 0 | AB29: ='User Input Sheet'!J29 -> 0 | AC29: ='User Input Sheet'!K29 -> 0 | AD29: ='User Input Sheet'!L29 -> 0
A30: ='User Input Sheet'!A30 -> Shield (Physical, Natural, or Magical) | B30: ='User Input Sheet'!B30 -> 0 | C30: ='User Input Sheet'!C30 -> 3 | M30: =IF(V30<>0, $C30*V30,"") | N30: =IF(W30<>0, $C30*W30,"") | O30: =IF(X30<>0, $C30*X30,"") | P30: =IF(Y30<>0, $C30*Y30,"") | Q30: =IF(Z30<>0, $C30*Z30,"") | R30: =IF(AA30<>0, $C30*AA30,"") | S30: =IF(AB30<>0, $C30*AB30,"") | T30: =IF(AC30<>0, $C30*AC30,"") | U30: =IF(AD30<>0, $C30*AD30,"") | V30: ='User Input Sheet'!D30 -> 0 | W30: ='User Input Sheet'!E30 -> 0 | X30: ='User Input Sheet'!F30 -> 0 | Y30: ='User Input Sheet'!G30 -> 0 | Z30: ='User Input Sheet'!H30 -> 0 | AA30: ='User Input Sheet'!I30 -> 0 | AB30: ='User Input Sheet'!J30 -> 0 | AC30: ='User Input Sheet'!K30 -> 0 | AD30: ='User Input Sheet'!L30 -> 0
A31: ='User Input Sheet'!A31 -> Bow, Sling, Javelin | B31: ='User Input Sheet'!B31 -> 0 | C31: ='User Input Sheet'!C31 -> 5 | M31: =IF(V31<>0, $C31*V31,"") | N31: =IF(W31<>0, $C31*W31,"") | O31: =IF(X31<>0, $C31*X31,"") | P31: =IF(Y31<>0, $C31*Y31,"") | Q31: =IF(Z31<>0, $C31*Z31,"") | R31: =IF(AA31<>0, $C31*AA31,"") | S31: =IF(AB31<>0, $C31*AB31,"") | T31: =IF(AC31<>0, $C31*AC31,"") | U31: =IF(AD31<>0, $C31*AD31,"") | V31: ='User Input Sheet'!D31 -> 0 | W31: ='User Input Sheet'!E31 -> 0 | X31: ='User Input Sheet'!F31 -> 0 | Y31: ='User Input Sheet'!G31 -> 0 | Z31: ='User Input Sheet'!H31 -> 0 | AA31: ='User Input Sheet'!I31 -> 0 | AB31: ='User Input Sheet'!J31 -> 0 | AC31: ='User Input Sheet'!K31 -> 0 | AD31: ='User Input Sheet'!L31 -> 0
A32: ='User Input Sheet'!A32 -> 1-Handed Weapon (Broadsword, Axe, Mace or Similar) | B32: ='User Input Sheet'!B32 -> 0 | C32: ='User Input Sheet'!C32 -> 5 | M32: =IF(V32<>0, $C32*V32,"") | N32: =IF(W32<>0, $C32*W32,"") | O32: =IF(X32<>0, $C32*X32,"") | P32: =IF(Y32<>0, $C32*Y32,"") | Q32: =IF(Z32<>0, $C32*Z32,"") | R32: =IF(AA32<>0, $C32*AA32,"") | S32: =IF(AB32<>0, $C32*AB32,"") | T32: =IF(AC32<>0, $C32*AC32,"") | U32: =IF(AD32<>0, $C32*AD32,"") | V32: ='User Input Sheet'!D32 -> 0 | W32: ='User Input Sheet'!E32 -> 0 | X32: ='User Input Sheet'!F32 -> 0 | Y32: ='User Input Sheet'!G32 -> 0 | Z32: ='User Input Sheet'!H32 -> 0 | AA32: ='User Input Sheet'!I32 -> 0 | AB32: ='User Input Sheet'!J32 -> 0 | AC32: ='User Input Sheet'!K32 -> 0 | AD32: ='User Input Sheet'!L32 -> 0
A33: ='User Input Sheet'!A33 -> Musical Instrument | B33: ='User Input Sheet'!B33 -> 0 | C33: ='User Input Sheet'!C33 -> 8 | M33: =IF(V33<>0, $C33*V33,"") | N33: =IF(W33<>0, $C33*W33,"") | O33: =IF(X33<>0, $C33*X33,"") | P33: =IF(Y33<>0, $C33*Y33,"") | Q33: =IF(Z33<>0, $C33*Z33,"") | R33: =IF(AA33<>0, $C33*AA33,"") | S33: =IF(AB33<>0, $C33*AB33,"") | T33: =IF(AC33<>0, $C33*AC33,"") | U33: =IF(AD33<>0, $C33*AD33,"") | V33: ='User Input Sheet'!D33 -> 0 | W33: ='User Input Sheet'!E33 -> 0 | X33: ='User Input Sheet'!F33 -> 0 | Y33: ='User Input Sheet'!G33 -> 0 | Z33: ='User Input Sheet'!H33 -> 0 | AA33: ='User Input Sheet'!I33 -> 0 | AB33: ='User Input Sheet'!J33 -> 0 | AC33: ='User Input Sheet'!K33 -> 0 | AD33: ='User Input Sheet'!L33 -> 0
A34: ='User Input Sheet'!A34 -> 2-Handed Weapon, Gunpowder Weapon | B34: ='User Input Sheet'!B34 -> 0 | C34: ='User Input Sheet'!C34 -> 8 | M34: =IF(V34<>0, $C34*V34,"") | N34: =IF(W34<>0, $C34*W34,"") | O34: =IF(X34<>0, $C34*X34,"") | P34: =IF(Y34<>0, $C34*Y34,"") | Q34: =IF(Z34<>0, $C34*Z34,"") | R34: =IF(AA34<>0, $C34*AA34,"") | S34: =IF(AB34<>0, $C34*AB34,"") | T34: =IF(AC34<>0, $C34*AC34,"") | U34: =IF(AD34<>0, $C34*AD34,"") | V34: ='User Input Sheet'!D34 -> 0 | W34: ='User Input Sheet'!E34 -> 0 | X34: ='User Input Sheet'!F34 -> 0 | Y34: ='User Input Sheet'!G34 -> 0 | Z34: ='User Input Sheet'!H34 -> 0 | AA34: ='User Input Sheet'!I34 -> 0 | AB34: ='User Input Sheet'!J34 -> 0 | AC34: ='User Input Sheet'!K34 -> 0 | AD34: ='User Input Sheet'!L34 -> 0
A35: ='User Input Sheet'!A35 -> Ranged Magical Attack | B35: ='User Input Sheet'!B35 -> 0 | C35: ='User Input Sheet'!C35 -> 10 | M35: =IF(V35<>0, $C35*V35,"") | N35: =IF(W35<>0, $C35*W35,"") | O35: =IF(X35<>0, $C35*X35,"") | P35: =IF(Y35<>0, $C35*Y35,"") | Q35: =IF(Z35<>0, $C35*Z35,"") | R35: =IF(AA35<>0, $C35*AA35,"") | S35: =IF(AB35<>0, $C35*AB35,"") | T35: =IF(AC35<>0, $C35*AC35,"") | U35: =IF(AD35<>0, $C35*AD35,"") | V35: ='User Input Sheet'!D35 -> 0 | W35: ='User Input Sheet'!E35 -> 0 | X35: ='User Input Sheet'!F35 -> 0 | Y35: ='User Input Sheet'!G35 -> 0 | Z35: ='User Input Sheet'!H35 -> 0 | AA35: ='User Input Sheet'!I35 -> 0 | AB35: ='User Input Sheet'!J35 -> 0 | AC35: ='User Input Sheet'!K35 -> 0 | AD35: ='User Input Sheet'!L35 -> 0
A36: ='User Input Sheet'!A36 -> Change Armor/Grade (i.e. +/- 1 to 3) | B36: ='User Input Sheet'!B36 -> 0 | C36: ='User Input Sheet'!C36 -> 10 | M36: =IF(V36<>0, $C36*V36,"") | N36: =IF(W36<>0, $C36*W36,"") | O36: =IF(X36<>0, $C36*X36,"") | P36: =IF(Y36<>0, $C36*Y36,"") | Q36: =IF(Z36<>0, $C36*Z36,"") | R36: =IF(AA36<>0, $C36*AA36,"") | S36: =IF(AB36<>0, $C36*AB36,"") | T36: =IF(AC36<>0, $C36*AC36,"") | U36: =IF(AD36<>0, $C36*AD36,"") | V36: ='User Input Sheet'!D36 -> 0 | W36: ='User Input Sheet'!E36 -> 0 | X36: ='User Input Sheet'!F36 -> 0 | Y36: ='User Input Sheet'!G36 -> 0 | Z36: ='User Input Sheet'!H36 -> 0 | AA36: ='User Input Sheet'!I36 -> 0 | AB36: ='User Input Sheet'!J36 -> 0 | AC36: ='User Input Sheet'!K36 -> 0 | AD36: ='User Input Sheet'!L36 -> 0
A37: ='User Input Sheet'!A37 -> Battle Standard | B37: ='User Input Sheet'!B37 -> 0 | C37: ='User Input Sheet'!C37 -> 15 | M37: =IF(V37<>0, $C37*V37,"") | N37: =IF(W37<>0, $C37*W37,"") | O37: =IF(X37<>0, $C37*X37,"") | P37: =IF(Y37<>0, $C37*Y37,"") | Q37: =IF(Z37<>0, $C37*Z37,"") | R37: =IF(AA37<>0, $C37*AA37,"") | S37: =IF(AB37<>0, $C37*AB37,"") | T37: =IF(AC37<>0, $C37*AC37,"") | U37: =IF(AD37<>0, $C37*AD37,"") | V37: ='User Input Sheet'!D37 -> 0 | W37: ='User Input Sheet'!E37 -> 0 | X37: ='User Input Sheet'!F37 -> 0 | Y37: ='User Input Sheet'!G37 -> 0 | Z37: ='User Input Sheet'!H37 -> 0 | AA37: ='User Input Sheet'!I37 -> 0 | AB37: ='User Input Sheet'!J37 -> 0 | AC37: ='User Input Sheet'!K37 -> 0 | AD37: ='User Input Sheet'!L37 -> 0
A38: ='User Input Sheet'!A38 -> Heavy Siege Weapon, Fast (Mtd.) Movement | B38: ='User Input Sheet'!B38 -> 0 | C38: ='User Input Sheet'!C38 -> 20 | M38: =IF(V38<>0, $C38*V38,"") | N38: =IF(W38<>0, $C38*W38,"") | O38: =IF(X38<>0, $C38*X38,"") | P38: =IF(Y38<>0, $C38*Y38,"") | Q38: =IF(Z38<>0, $C38*Z38,"") | R38: =IF(AA38<>0, $C38*AA38,"") | S38: =IF(AB38<>0, $C38*AB38,"") | T38: =IF(AC38<>0, $C38*AC38,"") | U38: =IF(AD38<>0, $C38*AD38,"") | V38: ='User Input Sheet'!D38 -> 0 | W38: ='User Input Sheet'!E38 -> 0 | X38: ='User Input Sheet'!F38 -> 0 | Y38: ='User Input Sheet'!G38 -> 0 | Z38: ='User Input Sheet'!H38 -> 0 | AA38: ='User Input Sheet'!I38 -> 0 | AB38: ='User Input Sheet'!J38 -> 0 | AC38: ='User Input Sheet'!K38 -> 0 | AD38: ='User Input Sheet'!L38 -> 0
C39: ='User Input Sheet'!C40 -> Figure AD: | D39: =IF(D14=0, "", OFFSET($AE$18,D14+D26,0,1,1)) | E39: =IF(E14=0, "", OFFSET($AE$18,E14+E26,0,1,1)) | F39: =IF(F14=0, "", OFFSET($AE$18,F14+F26,0,1,1)) | G39: =IF(G14=0, "", OFFSET($AE$18,G14+G26,0,1,1)) | H39: =IF(H14=0, "", OFFSET($AE$18,H14+H26,0,1,1)) | I39: =IF(I14=0, "", OFFSET($AE$18,I14+I26,0,1,1)) | J39: =IF(J14=0, "", OFFSET($AE$18,J14+J26,0,1,1)) | K39: =IF(K14=0, "", OFFSET($AE$18,K14+K26,0,1,1)) | L39: =IF(L14=0, "", OFFSET($AE$18,L14+L26,0,1,1)) | V39: ='User Input Sheet'!D40 | W39: ='User Input Sheet'!E40 | X39: ='User Input Sheet'!F40 | Y39: ='User Input Sheet'!G40 | Z39: ='User Input Sheet'!H40 | AA39: ='User Input Sheet'!I40 | AB39: ='User Input Sheet'!J40 | AC39: ='User Input Sheet'!K40 | AD39: ='User Input Sheet'!L40
C40: ='User Input Sheet'!C41 -> Figure PC: | M40: =SUM(M7:M38) -> 0 | N40: =SUM(N7:N38) -> 0 | O40: =SUM(O7:O38) -> 0 | P40: =SUM(P7:P38) -> 0 | Q40: =SUM(Q7:Q38) -> 0 | R40: =SUM(R7:R38) -> 0 | S40: =SUM(S7:S38) -> 0 | T40: =SUM(T7:T38) -> 0 | U40: =SUM(U7:U38) -> 0 | V40: ='User Input Sheet'!D41 -> 0 | W40: ='User Input Sheet'!E41 -> 0 | X40: ='User Input Sheet'!F41 -> 0 | Y40: ='User Input Sheet'!G41 -> 0 | Z40: ='User Input Sheet'!H41 -> 0 | AA40: ='User Input Sheet'!I41 -> 0 | AB40: ='User Input Sheet'!J41 -> 0 | AC40: ='User Input Sheet'!K41 -> 0 | AD40: ='User Input Sheet'!L41 -> 0
C41: ='User Input Sheet'!C39 -> Number of Replicas: | M41: ='User Input Sheet'!D39 -> 0 | N41: ='User Input Sheet'!E39 -> 0 | O41: ='User Input Sheet'!F39 -> 0 | P41: ='User Input Sheet'!G39 -> 0 | Q41: ='User Input Sheet'!H39 -> 0 | R41: ='User Input Sheet'!I39 -> 0 | S41: ='User Input Sheet'!J39 -> 0 | T41: ='User Input Sheet'!K39 -> 0 | U41: ='User Input Sheet'!L39 -> 0 | V41: ='User Input Sheet'!D39 -> 0 | W41: ='User Input Sheet'!E39 -> 0 | X41: ='User Input Sheet'!F39 -> 0 | Y41: ='User Input Sheet'!G39 -> 0 | Z41: ='User Input Sheet'!H39 -> 0 | AA41: ='User Input Sheet'!I39 -> 0 | AB41: ='User Input Sheet'!J39 -> 0 | AC41: ='User Input Sheet'!K39 -> 0 | AD41: ='User Input Sheet'!L39 -> 0
C42: ='User Input Sheet'!C42 -> Total PC for Squad: | M42: =M40*M41 -> 0 | N42: =N40*N41 -> 0 | O42: =O40*O41 -> 0 | P42: =P40*P41 -> 0 | Q42: =Q40*Q41 -> 0 | R42: =R40*R41 -> 0 | S42: =S40*S41 -> 0 | T42: =T40*T41 -> 0 | U42: =U40*U41 -> 0 | V42: ='User Input Sheet'!D42 -> 0 | W42: ='User Input Sheet'!E42 -> 0 | X42: ='User Input Sheet'!F42 -> 0 | Y42: ='User Input Sheet'!G42 -> 0 | Z42: ='User Input Sheet'!H42 -> 0 | AA42: ='User Input Sheet'!I42 -> 0 | AB42: ='User Input Sheet'!J42 -> 0 | AC42: ='User Input Sheet'!K42 -> 0 | AD42: ='User Input Sheet'!L42 -> 0
C43: ='User Input Sheet'!C43 -> Total PC for War Band: | U43: =SUM(M42:U42) -> 0
A45: ='User Input Sheet'!A45 -> Instructions and notes:
A46: ='User Input Sheet'!A46 -> Figures 1-9 are actually figure types; enter the number of each type of figure under Number of Replicas.
A47: ='User Input Sheet'!A47 -> Add a 1 into a white cell to the to select and item. Do not modify any colored cells.
A48: ='User Input Sheet'!A48 -> For the Weapon and Armor Changes section: adding a -1 will remove an item that comes with a figure based on its class, adding a # greater
A49: ='User Input Sheet'!A49 -> than 1 will add multiples.
A50: ='User Input Sheet'!A50 -> For the Change Armor per Grade only, adding a 1 to 3 will inprove the armor that many grades, or a -1 to -3 will downgrand it that many levels.
A51: ='User Input Sheet'!A51 -> Note that there is not checking built in (i.e. you could select two base sizes for one figure and will be charged the cost for both).
A52: ='User Input Sheet'!A52 -> Note (Unless upgraded): | C52: ='User Input Sheet'!C52 -> Armor Grades:
A53: ='User Input Sheet'!A53 -> All Assassins, Magicians, and Peasants are Unarmored | C53: ='User Input Sheet'!C53 -> Unarmored
A54: ='User Input Sheet'!A54 -> Fighters and Monsters are Armored | C54: ='User Input Sheet'!C54 -> Armored
A55: ='User Input Sheet'!A55 -> Knights are Heavily Armored | C55: ='User Input Sheet'!C55 -> Heavily Armored
A56: ='User Input Sheet'!A56 -> All Magicians are Unarmed | C56: ='User Input Sheet'!C56 -> Super Heavily Armored
A57: ='User Input Sheet'!A57 -> Peasants have Improvised Weapons
A58: ='User Input Sheet'!A58 -> Assassins have Daggers
A59: ='User Input Sheet'!A59 -> Fighters Broadswords
A60: ='User Input Sheet'!A60 -> Knights have 2-Handed Weapons, and Monsters have the equiv. attack
A62: ='User Input Sheet'!A62 -> Racial Bonus and Penalties (These are added to the Roster Notes but only if names are typed in row 4 exactly as shown below):
A63: ='User Input Sheet'!A63 -> Different traits for races adds interest. With the vast range of fantasy types available, we offer just a basic list here. When making your own stats, give a penalty
A64: ='User Input Sheet'!A64 -> to offset any bonus. Additional new stats can only be used with the consent of all players.
A65: ='User Input Sheet'!A65 -> Dwarf | B65: ='User Input Sheet'!B65 -> Move full in Rough if Rocky/Hills, but -2” overall. | C65: ='User Input Sheet'!C65 -> Dwarves move full in Rough if it is rocky or hills, but -2” movement overall. Also mining/counter-mining in certain scenarios.
A66: ='User Input Sheet'!A66 -> Elf | B66: ='User Input Sheet'!B66 -> Receive -1 on Ranged Attacks/+1 in Melee. Move full in Rough if Woods. | C66: ='User Input Sheet'!C66 -> Elves are excellent marksmen, so receive a -1 with all ranged weapons, but +1 in melee. Also, move full in Rough if it is woods.
A67: ='User Input Sheet'!A67 -> Gnome | B67: ='User Input Sheet'!B67 -> Can disappear from sight for one full move. | C67: ='User Input Sheet'!C67 -> Gnomes can disappear from sight for one full move so they get one free evade per turn of anyone trying to move into melee contact with them but it gives them 2 DMs to do so. Also mining/counter-mining in certain scenarios.
A68: ='User Input Sheet'!A68 -> Goblin | B68: ='User Input Sheet'!B68 -> See perfectly in dark but reveive a +1 in full daylight. | C68: ='User Input Sheet'!C68 -> Goblins and other underground dwellers see perfectly in dark but shoot and melee at a +1 in full daylight.
A69: ='User Input Sheet'!A69 -> Hobgoblin | B69: ='User Input Sheet'!B69 -> See perfectly in dark but reveive a +1 in full daylight. | C69: ='User Input Sheet'!C69 -> Hobgoblins and other underground dwellers see perfectly in dark but shoot and melee at a +1 in full daylight.
A70: ='User Input Sheet'!A70 -> Human | B70: ='User Input Sheet'!B70 -> See perfectly in daylight but only 12" max. at night. | C70: ='User Input Sheet'!C70 -> Humans and similar above ground dwellers see perfectly in the daylight but their vision is 12" maximum at night which limits ranged weapons.
A71: ='User Input Sheet'!A71 -> Human Savanna/Desert | B71: ='User Input Sheet'!B71 -> See perfectly in daylight but only 12" max. at night. Move +2” in Hot environments/-2” in Cold. | C71: ='User Input Sheet'!C71 -> Human savanna and desert dwellers move +2” in hot environments, but -2” in cold. See perfectly in the daylight but their vision is 12" maximum at night.
A72: ='User Input Sheet'!A72 -> Insectoid | B72: ='User Input Sheet'!B72 -> Receive a -1 in Melee/+1 on Ranged Attacks. Move full in Rough if it is Rocky or Broken Ground, but -4” in Cold environments. | C72: ='User Input Sheet'!C72 -> Insectoids are excellent in close combat, so receive a -1 in melee, but a +1 with all ranged weapons. Also, they move full in Rough if it is rocky or broken ground, but -4” in cold environments.
A73: ='User Input Sheet'!A73 -> Pig-Faced Orc | B73: ='User Input Sheet'!B73 -> Skin counts as natural armor, so cannot be unarmored. | C73: ='User Input Sheet'!C73 -> Pig-Faced Orcs’ skin counts as natural armor so they cannot ever be unarmored.
A74: ='User Input Sheet'!A74 -> Ratog | B74: ='User Input Sheet'!B74 -> Thick fur counts as natural armor, so cannot be unarmored. | C74: ='User Input Sheet'!C74 -> Ratogs’ thick fur counts as natural armor so they cannot ever be unarmored.
A75: ='User Input Sheet'!A75 -> Saurian | B75: ='User Input Sheet'!B75 -> Scales counts as natural armor, so cannot be unarmored. | C75: ='User Input Sheet'!C75 -> Saurians’ scales count as natural armor so they cannot ever be unarmored.
A76: ='User Input Sheet'!A76 -> Skeleton | B76: ='User Input Sheet'!B76 -> Do not rout. Cannot be above Untrained. | C76: ='User Input Sheet'!C76 -> Skeletons do not rout because of DMs. They can never be rated above Untrained.
... A78: ='User Input Sheet'!A78 -> Zombie | B78: ='User Input Sheet'!B78 -> Do not rout. Cannot be above Untrained. | C78: ='User Input Sheet'!C78 -> Zombies do not rout because of DMs. They can never be rated above Untrained.

Sheet Rulebook Example Roster
A1: War Bands II, Troop Roster
J2: ='User Input Sheet'!A2 -> Version 10/29/2024
A3: Unit Name: | B3: Rulebook Sample | F3: Player Name: | G3: RRB Minis & More
A5: Race | B5: Figure Skill | C5: Figure Type | D5: Number of Replicas | E5: Figure AD | F5: Racial Bonuses | I5: Notes/Description
A6: Fairy | B6: Legendary | C6: Magician | D6: 1 | E6: D8
A7: Dwarf | B7: Heroic | C7: Knight | D7: 3 | E7: D10 | F7: Move full in Rough if Rocky/Hills, but -2” overall.
A8: Elf | B8: Heroic | C8: Fighter | D8: 4 | E8: D4 | F8: Receive -1 on Ranged Attacks/+1 in Melee. Move full in Rough if Woods. | I8: Mounted
A9: Elf | B9: Heroic | C9: Fighter | D9: 5 | E9: D8 | F9: Receive -1 on Ranged Attacks/+1 in Melee. Move full in Rough if Woods.
A10: Elf | B10: Trained | C10: Fighter | D10: 1 | E10: D4 | F10: Receive -1 on Ranged Attacks/+1 in Melee. Move full in Rough if Woods. | I10: Chariot
A11: Elf | B11: Trained | C11: Fighter | D11: 1 | E11: D12 | F11: Receive -1 on Ranged Attacks/+1 in Melee. Move full in Rough if Woods. | I11: Extra Crew
A16: Additional Notes: | I16: Total PC for War Band: | J16: 999

Sheet Elf Roster
A1: War Bands II, Troop Roster
J2: ='User Input Sheet'!A2 -> Version 10/29/2024
A3: Unit Name: | B3: Elf, Human, Hobbit Alliance | F3: Player Name: | G3: RRB Minis & More
A5: Race | B5: Figure Skill | C5: Figure Type | D5: Number of Replicas | E5: Figure AD | F5: Racial Bonuses | I5: Notes/Description
A6: Elf & Human | B6: Legendary | C6: Knight | D6: 2 | E6: D4 | I6: L Ftr 2 Wps
A7: Elf | B7: Trained | C7: Fighter | D7: 3 | E7: D12 | F7: Receive -1 on Ranged Attacks/+1 in Melee. Move full in Rough if Woods. | I7: T Ftr
A8: Elf | B8: Trained | C8: Fighter | D8: 2 | E8: D12 | F8: Receive -1 on Ranged Attacks/+1 in Melee. Move full in Rough if Woods. | I8: T Ftr. Bow
A9: Elf | B9: Trained | C9: Fighter | D9: 2 | E9: D12 | F9: Receive -1 on Ranged Attacks/+1 in Melee. Move full in Rough if Woods. | I9: T Ftr. Spear
A10: Elf & Human | B10: Trained | C10: Fighter | D10: 7 | E10: D12 | I10: T Ftr. W&Sh.
A11: Elf | B11: Untrained | C11: Fighter | D11: 3 | E11: D20 | F11: Receive -1 on Ranged Attacks/+1 in Melee. Move full in Rough if Woods. | I11: T Peasant
A12: Human | B12: Trained | C12: Magician | D12: 1 | E12: D12 | F12: See perfectly in daylight but only 12" max. at night. | I12: T Magician
A13: Hobbit | B13: Trained | C13: Assassin | D13: 2 | E13: D16 | I13: T Assassin
A16: Additional Notes: | I16: Total PC for War Band: | J16: 738

Sheet Dwarf Roster
A1: War Bands II, Troop Roster
J2: ='User Input Sheet'!A2 -> Version 10/29/2024
A3: Unit Name: | B3: Mining Coalition of Midivar | F3: Player Name: | G3: RRB Minis & More
A5: Race | B5: Figure Skill | C5: Figure Type | D5: Number of Replicas | E5: Figure AD | F5: Racial Bonuses | I5: Notes/Description
A6: Dwarf | B6: Legendary | C6: Fighter | D6: 1 | E6: D6 | F6: Move full in Rough if Rocky/Hills, but -2” overall. | I6: L Ftr w/Sh & Hvy Arm
A7: Dwarf | B7: Heroic | C7: Magician | D7: 2 | E7: D10 | F7: Move full in Rough if Rocky/Hills, but -2” overall. | I7: E Magician
A8: Dwarf | B8: Trained | C8: Knight | D8: 8 | E8: D16 | F8: Move full in Rough if Rocky/Hills, but -2” overall. | I8: T Knight
A9: Dwarf | B9: Heroic | C9: Fighter | D9: 5 | E9: D10 | F9: Move full in Rough if Rocky/Hills, but -2” overall. | I9: E Ftr. Unarm w/Sh
A10: Dwarf | B10: Heroic | C10: Fighter | D10: 1 | E10: D10 | F10: Move full in Rough if Rocky/Hills, but -2” overall. | I10: E Ftr w/Sh
A11: Dwarf | B11: Heroic | C11: Fighter | D11: 3 | E11: D10 | F11: Move full in Rough if Rocky/Hills, but -2” overall. | I11: E Ftr Unarm
A12: Dwarf | B12: Trained | C12: Assassin | D12: 1 | E12: D16 | F12: Move full in Rough if Rocky/Hills, but -2” overall. | I12: T Ass w/Short Swd
A16: Additional Notes: | I16: Total PC for War Band: | J16: 697

Sheet PFO Roster
A1: War Bands II, Troop Roster
J2: ='User Input Sheet'!A2 -> Version 10/29/2024
A3: Unit Name: | B3: The League of Pig-Faced Orc Tribes | F3: Player Name: | G3: ='User Input Sheet'!E2 -> 0
A5: Race | B5: Figure Skill | C5: Figure Type | D5: Number of Replicas | E5: Figure AD | F5: Racial Bonuses | I5: Notes/Description
A6: Pig-Faced Orc | B6: Legendary | C6: Fighter | D6: 1 | E6: D4 | F6: Skin counts as natural armor, so cannot be unarmored. | I6: Officer
A7: Pig-Faced Orc | B7: Trained | C7: Fighter | D7: 1 | E7: D10 | F7: Skin counts as natural armor, so cannot be unarmored. | I7: Std. Bearer
A8: Pig-Faced Orc | B8: Trained | C8: Fighter | D8: 1 | E8: D10 | F8: Skin counts as natural armor, so cannot be unarmored. | I8: Musician
A9: Pig-Faced Orc | B9: Heroic | C9: Fighter | D9: 1 | E9: D6 | F9: Skin counts as natural armor, so cannot be unarmored. | I9: Bodyguard w/Halberd
A10: Pig-Faced Orc | B10: Trained | C10: Fighter | D10: 4 | E10: D10 | F10: Skin counts as natural armor, so cannot be unarmored. | I10: Archers
A11: Pig-Faced Orc | B11: Trained | C11: Fighter | D11: 3 | E11: D10 | F11: Skin counts as natural armor, so cannot be unarmored. | I11: Weap & Shield Troops
A12: Pig-Faced Orc | B12: Trained | C12: Fighter | D12: 1 | E12: D8 | F12: Skin counts as natural armor, so cannot be unarmored. | I12: Mtd. Officer, Fast
A13: Pig-Faced Orc | B13: Trained | C13: Fighter | D13: 1 | E13: D6 | F13: Skin counts as natural armor, so cannot be unarmored. | I13: Mtd. Std. Bearer w/Sword, Fast
A14: Pig-Faced Orc | B14: Trained | C14: Fighter | D14: 1 | E14: D6 | F14: Skin counts as natural armor, so cannot be unarmored. | I14: Mtd. Musician, Fast
A15: Pig-Faced Orc | B15: Trained | C15: Fighter | D15: 1 | E15: D6 | F15: Skin counts as natural armor, so cannot be unarmored. | I15: Mtd. w/Spear, Fast
A16: Pig-Faced Orc | B16: Trained | C16: Fighter | D16: 1 | E16: D6 | F16: Skin counts as natural armor, so cannot be unarmored. | I16: Mtd. w/Bow, Fast
I18: Total PC for War Band: | J18: 1001
